BEGIN:VCALENDAR
METHOD:PUBLISH
VERSION:2.0
CALSCALE:GREGORIAN
PRODID:-//NONSGML WPForms//NONSGML Sugar Calendar Feeds v3.11.0//EN
X-WR-CALNAME:Every Career Chapter Needs a Plan
X-WR-CALDESC:NCFDD
X-WR-TIMEZONE:UTC
BEGIN:VTIMEZONE
TZID:UTC
BEGIN:STANDARD
TZOFFSETFROM:+0000
TZOFFSETTO:+0000
DTSTART:20250801T020000
TZNAME:UTC
END:STANDARD
END:VTIMEZONE
BEGIN:VTIMEZONE
TZID:UTC
BEGIN:STANDARD
TZOFFSETFROM:+0000
TZOFFSETTO:+0000
DTSTART:20250801T020000
TZNAME:UTC
END:STANDARD
END:VTIMEZONE
BEGIN:VEVENT
SUMMARY:Every Career Chapter Needs a Plan
DESCRIPTION:Design Your Academic Chapter: A Strategic Planning Webinar\n
 Every academic career unfolds in chapters\, each with its own goals\, ch
 allenges\, and opportunities. Whether you’re a graduate student finish
 ing your degree\, a postdoc on the job market\, an assistant professor w
 orking toward tenure\, a professional faculty member launching a new pro
 ject\, or a mid-career scholar preparing for your next promotion or tran
 sition\, this session will help you see the bigger picture.\nIn this int
 eractive\, hands-on webinar\, NCFDD experts will guide you through pract
 ical exercises to:\n\n\n 	\nClarify your goals for your current career s
 tage\n\n 	\nIdentify what success looks like in this “chapter” of yo
 ur professional journey\n\n 	\nCreate a high-level plan that keeps you f
 ocused\, balanced\, and intentional\n\n\nJoin us to step back\, reflect\
 , and design your next chapter with clarity and confidence.
URL;VALUE=URI:https://www.ncfdd.org/events/members-only-every-career-cha
 pter-needs-a-plan/
UID:urn:uuid:62474fdc-2c68-42f1-9031-3de00e560c18
STATUS:CONFIRMED
ORGANIZER:
DTSTAMP:20260425T225657Z
DTSTART;TZID=UTC:20260130T140000
DTEND;TZID=UTC:20260130T150000
END:VEVENT
END:VCALENDAR